BEGIN:VCALENDAR
VERSION:2.0
PRODID:-//www.firth.nebraska.gov//NONSGML kigkonsult.se iCalcreator 2.30.10
 //
CALSCALE:GREGORIAN
METHOD:PUBLISH
UID:303a15f7-3fce-4ee9-8226-6ea8af3d59d7
X-WR-CALDESC:
X-WR-RELCALID:aa387bb5d33d63a787afda3c1cc1afae
X-WR-TIMEZONE:America/Chicago
BEGIN:VTIMEZONE
TZID:America/Chicago
BEGIN:STANDARD
TZNAME:CST
DTSTART:20241103T020000
TZOFFSETFROM:-0500
TZOFFSETTO:-0600
RDATE:20251102T020000
END:STANDARD
BEGIN:DAYLIGHT
TZNAME:CDT
DTSTART:20240310T020000
TZOFFSETFROM:-0600
TZOFFSETTO:-0500
RDATE:20250309T020000
RDATE:20260308T020000
END:DAYLIGHT
END:VTIMEZONE
BEGIN:VEVENT
UID:31c09faa-5fd3-42d4-b33d-b67326acf11a
DTSTAMP:20260420T221810Z
DESCRIPTION:
DTSTART;TZID=America/Chicago:20250304T190000
DTEND;TZID=America/Chicago:20250304T210000
LOCATION:311 Nemaha St\, Firth\, AL 68358 US
SUMMARY:March Village Board Meeting
END:VEVENT
END:VCALENDAR
