BEGIN:VCALENDAR
VERSION:2.0
PRODID:-//www.firth.nebraska.gov//NONSGML kigkonsult.se iCalcreator 2.30.10
 //
CALSCALE:GREGORIAN
METHOD:PUBLISH
UID:93aff9f7-2a0b-43a2-8eeb-e8ed33fe96eb
X-WR-CALDESC:
X-WR-RELCALID:d8e5a0603727102d37fb28ab1963b37d
X-WR-TIMEZONE:America/Chicago
BEGIN:VTIMEZONE
TZID:America/Chicago
BEGIN:STANDARD
TZNAME:CST
DTSTART:20241103T020000
TZOFFSETFROM:-0500
TZOFFSETTO:-0600
RDATE:20251102T020000
END:STANDARD
BEGIN:DAYLIGHT
TZNAME:CDT
DTSTART:20250309T020000
TZOFFSETFROM:-0600
TZOFFSETTO:-0500
RDATE:20260308T020000
END:DAYLIGHT
END:VTIMEZONE
BEGIN:VEVENT
UID:b09df9b6-9972-4f39-8a31-d46cf3d995b4
DTSTAMP:20260420T221810Z
DESCRIPTION:
DTSTART;TZID=America/Chicago:20250313T190000
DTEND;TZID=America/Chicago:20250313T200000
LOCATION:311 Nemaha St\, PO Box 38\, Firth\, NE 68358 US
SUMMARY:Village Board - Special Meeting
END:VEVENT
END:VCALENDAR
