BEGIN:VCALENDAR
VERSION:2.0
PRODID:-//www.firth.nebraska.gov//NONSGML kigkonsult.se iCalcreator 2.30.10
 //
CALSCALE:GREGORIAN
METHOD:PUBLISH
UID:432c98b5-9db6-4c4b-8b6d-aa3ab9c5358d
X-WR-CALDESC:FACET welcomes anyone from the community to all meetings and t
 o help with events throughout the year.
X-WR-RELCALID:c1089bf3009e7da37cb872ea806ed7ce
X-WR-TIMEZONE:America/Chicago
BEGIN:VTIMEZONE
TZID:America/Chicago
BEGIN:STANDARD
TZNAME:CST
DTSTART:20241103T020000
TZOFFSETFROM:-0500
TZOFFSETTO:-0600
RDATE:20251102T020000
END:STANDARD
BEGIN:DAYLIGHT
TZNAME:CDT
DTSTART:20250309T020000
TZOFFSETFROM:-0600
TZOFFSETTO:-0500
RDATE:20260308T020000
END:DAYLIGHT
END:VTIMEZONE
BEGIN:VEVENT
UID:6a4c4e5b-6d96-48f9-8d3c-bf2045f39dd7
DTSTAMP:20260420T204149Z
DESCRIPTION:FACET welcomes anyone from the community to all meetings and to
  help with events throughout the year.
DTSTART;TZID=America/Chicago:20250408T090000
DTEND;TZID=America/Chicago:20250408T100000
LOCATION:110 W 3rd St\, Homestead Bakery & Cafe\, Firth\, NE 68358 US
SUMMARY:FACET planning meeting
END:VEVENT
END:VCALENDAR
