BEGIN:VCALENDAR
VERSION:2.0
PRODID:-//www.firth.nebraska.gov//NONSGML kigkonsult.se iCalcreator 2.30.10
 //
CALSCALE:GREGORIAN
METHOD:PUBLISH
UID:989c110d-b901-4c2e-8184-bdc87d9c7159
X-WR-CALDESC:
X-WR-RELCALID:7218cf3c3784f2d935caba359f3aa64b
X-WR-TIMEZONE:America/Chicago
BEGIN:VTIMEZONE
TZID:America/Chicago
BEGIN:STANDARD
TZNAME:CST
DTSTART:20241103T020000
TZOFFSETFROM:-0500
TZOFFSETTO:-0600
RDATE:20251102T020000
END:STANDARD
BEGIN:DAYLIGHT
TZNAME:CDT
DTSTART:20250309T020000
TZOFFSETFROM:-0600
TZOFFSETTO:-0500
RDATE:20260308T020000
END:DAYLIGHT
END:VTIMEZONE
BEGIN:VEVENT
UID:cd658aa3-e3fb-428b-9ac6-9726c1a58cc2
DTSTAMP:20260420T204123Z
DESCRIPTION:
DTSTART;TZID=America/Chicago:20250419T150000
DTEND;TZID=America/Chicago:20250419T153000
LOCATION:201 E 2nd St\, Firth Ball Fields\, Firth\, NE 68358 US
SUMMARY:Firth Easter Egg Hunt
END:VEVENT
END:VCALENDAR
