BEGIN:VCALENDAR
VERSION:2.0
PRODID:-//www.firth.nebraska.gov//NONSGML kigkonsult.se iCalcreator 2.30.10
 //
CALSCALE:GREGORIAN
METHOD:PUBLISH
UID:82fb0031-6497-48d4-9c0b-5fb907832eeb
X-WR-CALDESC:
X-WR-RELCALID:ed300ef6326fc2f942eecb709d1150a7
X-WR-TIMEZONE:America/Chicago
BEGIN:VTIMEZONE
TZID:America/Chicago
BEGIN:STANDARD
TZNAME:CST
DTSTART:20241103T020000
TZOFFSETFROM:-0500
TZOFFSETTO:-0600
RDATE:20251102T020000
RDATE:20261101T020000
END:STANDARD
BEGIN:DAYLIGHT
TZNAME:CDT
DTSTART:20250309T020000
TZOFFSETFROM:-0600
TZOFFSETTO:-0500
RDATE:20260308T020000
END:DAYLIGHT
END:VTIMEZONE
BEGIN:VEVENT
UID:bcf1b573-abea-4c72-9078-cdb513e57189
DTSTAMP:20260420T185429Z
DESCRIPTION:
DTSTART;TZID=America/Chicago:20250506T190000
DTEND;TZID=America/Chicago:20250506T210000
LOCATION:311 Nemaha St\, Firth\, NE 68358 US
SUMMARY:Village Board Meeting
END:VEVENT
END:VCALENDAR
