BEGIN:VCALENDAR
VERSION:2.0
PRODID:-//www.firth.nebraska.gov//NONSGML kigkonsult.se iCalcreator 2.30.10
 //
CALSCALE:GREGORIAN
METHOD:PUBLISH
UID:45473fc5-84a8-40c3-88a6-f7d4daebe8ab
X-WR-CALDESC:Firth Residents Only.  Please bring proof of residency.  \nLoc
 ation:  Behind Community Center (311 Nemaha) \nTaking garbage\, appliances
 \, brush\, and tires.  \nFirst 5 tires free\, then $5/tire.\nAlso taking G
 oodwill donations.\nAll items will be monitored by Village Board/Staff
X-WR-RELCALID:0aa9087c2973be6a537faaf9d9f732f0
X-WR-TIMEZONE:America/Chicago
BEGIN:VTIMEZONE
TZID:America/Chicago
BEGIN:STANDARD
TZNAME:CST
DTSTART:20241103T020000
TZOFFSETFROM:-0500
TZOFFSETTO:-0600
RDATE:20251102T020000
RDATE:20261101T020000
END:STANDARD
BEGIN:DAYLIGHT
TZNAME:CDT
DTSTART:20250309T020000
TZOFFSETFROM:-0600
TZOFFSETTO:-0500
RDATE:20260308T020000
END:DAYLIGHT
END:VTIMEZONE
BEGIN:VEVENT
UID:23d8e189-8ea1-49a9-b48e-fee31e57204c
DTSTAMP:20260420T185210Z
DESCRIPTION:Firth Residents Only.  Please bring proof of residency.  \nLoca
 tion:  Behind Community Center (311 Nemaha) \nTaking garbage\, appliances\
 , brush\, and tires.  \nFirst 5 tires free\, then $5/tire.\nAlso taking Go
 odwill donations.\nAll items will be monitored by Village Board/Staff
DTSTART;TZID=America/Chicago:20250510T073000
DTEND;TZID=America/Chicago:20250510T113000
LOCATION:311 Nemaha St\, Firth\, NE 68358 US
SUMMARY:Firth Spring Cleanup Day
END:VEVENT
END:VCALENDAR
