BEGIN:VCALENDAR
VERSION:2.0
PRODID:-//www.firth.nebraska.gov//NONSGML kigkonsult.se iCalcreator 2.30.10
 //
CALSCALE:GREGORIAN
METHOD:PUBLISH
UID:cc1cb8a4-04b2-458c-9b4b-c7717b7e40ee
X-WR-CALDESC:
X-WR-RELCALID:0a1215958807342de11d5fdf19662165
X-WR-TIMEZONE:America/Chicago
BEGIN:VTIMEZONE
TZID:America/Chicago
BEGIN:STANDARD
TZNAME:CST
DTSTART:20241103T020000
TZOFFSETFROM:-0500
TZOFFSETTO:-0600
RDATE:20251102T020000
RDATE:20261101T020000
END:STANDARD
BEGIN:DAYLIGHT
TZNAME:CDT
DTSTART:20250309T020000
TZOFFSETFROM:-0600
TZOFFSETTO:-0500
RDATE:20260308T020000
END:DAYLIGHT
END:VTIMEZONE
BEGIN:VEVENT
UID:d79d6924-aa22-46b2-a8ba-5e3bf45f2f08
DTSTAMP:20260420T185918Z
DESCRIPTION:
DTSTART;TZID=America/Chicago:20250513T190000
DTEND;TZID=America/Chicago:20250513T203000
LOCATION:311 Nemaha St\, Firth Community Center\, Firth\, NE 68358 US
SUMMARY:FACET planning meeting
END:VEVENT
END:VCALENDAR
