BEGIN:VCALENDAR
VERSION:2.0
PRODID:-//www.firth.nebraska.gov//NONSGML kigkonsult.se iCalcreator 2.30.10
 //
CALSCALE:GREGORIAN
METHOD:PUBLISH
UID:3363a6ce-b48d-42f3-a186-b60b071cb69a
X-WR-CALDESC:
X-WR-RELCALID:7f2155dc09b4dbda446e0de6657614c8
X-WR-TIMEZONE:America/Chicago
BEGIN:VTIMEZONE
TZID:America/Chicago
BEGIN:STANDARD
TZNAME:CST
DTSTART:20241103T020000
TZOFFSETFROM:-0500
TZOFFSETTO:-0600
RDATE:20251102T020000
RDATE:20261101T020000
END:STANDARD
BEGIN:DAYLIGHT
TZNAME:CDT
DTSTART:20250309T020000
TZOFFSETFROM:-0600
TZOFFSETTO:-0500
RDATE:20260308T020000
END:DAYLIGHT
END:VTIMEZONE
BEGIN:VEVENT
UID:2a623e9c-69e5-404d-9c51-09c630d18e09
DTSTAMP:20260420T171656Z
DESCRIPTION:
DTSTART;TZID=America/Chicago:20250610T090000
DTEND;TZID=America/Chicago:20250610T100000
LOCATION:110 W 3rd St\, Homestead Bakery & Cafe\, Firth\, AL 68358 US
SUMMARY:FACET planning meeting
END:VEVENT
END:VCALENDAR
