BEGIN:VCALENDAR
VERSION:2.0
PRODID:-//www.firth.nebraska.gov//NONSGML kigkonsult.se iCalcreator 2.30.10
 //
CALSCALE:GREGORIAN
METHOD:PUBLISH
UID:aaac654d-3582-4d00-b3fc-cf9eb117fa84
X-WR-CALDESC:
X-WR-RELCALID:fb19cf2f896b315e8d372f38ad898b26
X-WR-TIMEZONE:America/Chicago
BEGIN:VTIMEZONE
TZID:America/Chicago
BEGIN:STANDARD
TZNAME:CST
DTSTART:20241103T020000
TZOFFSETFROM:-0500
TZOFFSETTO:-0600
RDATE:20251102T020000
RDATE:20261101T020000
END:STANDARD
BEGIN:DAYLIGHT
TZNAME:CDT
DTSTART:20250309T020000
TZOFFSETFROM:-0600
TZOFFSETTO:-0500
RDATE:20260308T020000
END:DAYLIGHT
END:VTIMEZONE
BEGIN:VEVENT
UID:b3b576f4-e355-4881-82e2-e16d0c1fe749
DTSTAMP:20260420T171526Z
DESCRIPTION:
DTSTART;TZID=America/Chicago:20250628T050000
DTEND;TZID=America/Chicago:20250628T050001
LOCATION:311 Nemaha St\, Firth\, NE 68358 US
SUMMARY:Firth Fun Day
END:VEVENT
END:VCALENDAR
