BEGIN:VCALENDAR
VERSION:2.0
PRODID:-//www.firth.nebraska.gov//NONSGML kigkonsult.se iCalcreator 2.30.10
 //
CALSCALE:GREGORIAN
METHOD:PUBLISH
UID:7bc628cc-f809-405b-a6d1-f7692ad9de86
X-WR-CALDESC:
X-WR-RELCALID:c35154d31afedb1bb6ed8df918bcd886
X-WR-TIMEZONE:America/Chicago
BEGIN:VTIMEZONE
TZID:America/Chicago
BEGIN:STANDARD
TZNAME:CST
DTSTART:20241103T020000
TZOFFSETFROM:-0500
TZOFFSETTO:-0600
RDATE:20251102T020000
RDATE:20261101T020000
END:STANDARD
BEGIN:DAYLIGHT
TZNAME:CDT
DTSTART:20250309T020000
TZOFFSETFROM:-0600
TZOFFSETTO:-0500
RDATE:20260308T020000
END:DAYLIGHT
END:VTIMEZONE
BEGIN:VEVENT
UID:ac282235-52cf-4bf2-8904-11764e7e757c
DTSTAMP:20260420T064845Z
DESCRIPTION:
DTSTART;TZID=America/Chicago:20250902T190000
DTEND;TZID=America/Chicago:20250902T210000
LOCATION:311 Nemaha St\, Firth\, NE 68358 US
SUMMARY:Village Board Meeting
END:VEVENT
END:VCALENDAR
