BEGIN:VCALENDAR
VERSION:2.0
PRODID:-//www.firth.nebraska.gov//NONSGML kigkonsult.se iCalcreator 2.30.10
 //
CALSCALE:GREGORIAN
METHOD:PUBLISH
UID:5af25f02-b99f-44c8-ab92-f60968ed93ee
X-WR-CALDESC:
X-WR-RELCALID:eb32f1ed0806815832e7338dea40a478
X-WR-TIMEZONE:America/Chicago
BEGIN:VTIMEZONE
TZID:America/Chicago
BEGIN:STANDARD
TZNAME:CST
DTSTART:20251102T020000
TZOFFSETFROM:-0500
TZOFFSETTO:-0600
RDATE:20261101T020000
END:STANDARD
BEGIN:DAYLIGHT
TZNAME:CDT
DTSTART:20260308T020000
TZOFFSETFROM:-0600
TZOFFSETTO:-0500
RDATE:20270314T020000
END:DAYLIGHT
END:VTIMEZONE
BEGIN:VEVENT
UID:85283cda-e33c-4c57-b6cb-c9cf16f3d1d8
DTSTAMP:20260419T212421Z
DESCRIPTION:
DTSTART;TZID=America/Chicago:20260407T190000
DTEND;TZID=America/Chicago:20260407T210000
LOCATION:311 Nemaha St\, Firth\, NE 68358 US
SUMMARY:Village Board Meeting
END:VEVENT
END:VCALENDAR
