BEGIN:VCALENDAR
VERSION:2.0
PRODID:-//www.firth.nebraska.gov//NONSGML kigkonsult.se iCalcreator 2.30.10
 //
CALSCALE:GREGORIAN
METHOD:PUBLISH
UID:0bdb40c2-167a-45ab-b7e7-675ebcf185cb
X-WR-CALDESC:
X-WR-RELCALID:ad4936cbaec8758043d4a79623c68846
X-WR-TIMEZONE:America/Chicago
BEGIN:VTIMEZONE
TZID:America/Chicago
BEGIN:STANDARD
TZNAME:CST
DTSTART:20251102T020000
TZOFFSETFROM:-0500
TZOFFSETTO:-0600
RDATE:20261101T020000
RDATE:20271107T020000
END:STANDARD
BEGIN:DAYLIGHT
TZNAME:CDT
DTSTART:20260308T020000
TZOFFSETFROM:-0600
TZOFFSETTO:-0500
RDATE:20270314T020000
END:DAYLIGHT
END:VTIMEZONE
BEGIN:VEVENT
UID:07c89dfc-05fb-4258-ac7c-bf682446de6b
DTSTAMP:20260420T022609Z
DESCRIPTION:
DTSTART;TZID=America/Chicago:20260804T190000
DTEND;TZID=America/Chicago:20260804T210000
LOCATION:311 Nemaha St\, Firth\, NE 68358 US
SUMMARY:Village Board Meeting
END:VEVENT
END:VCALENDAR
