BEGIN:VCALENDAR
VERSION:2.0
PRODID:-//www.firth.nebraska.gov//NONSGML kigkonsult.se iCalcreator 2.30.10
 //
CALSCALE:GREGORIAN
METHOD:PUBLISH
UID:1c8e8cfe-30a5-480b-a941-df208c084ddf
X-WR-CALDESC:
X-WR-RELCALID:640cb8edf888707e9a0fcda57d0cba48
X-WR-TIMEZONE:America/Chicago
BEGIN:VTIMEZONE
TZID:America/Chicago
BEGIN:STANDARD
TZNAME:CST
DTSTART:20261101T020000
TZOFFSETFROM:-0500
TZOFFSETTO:-0600
RDATE:20271107T020000
END:STANDARD
BEGIN:DAYLIGHT
TZNAME:CDT
DTSTART:20260308T020000
TZOFFSETFROM:-0600
TZOFFSETTO:-0500
RDATE:20270314T020000
RDATE:20280312T020000
END:DAYLIGHT
END:VTIMEZONE
BEGIN:VEVENT
UID:3cd5f7c6-7fa3-42b6-99d7-675a23e3a8e9
DTSTAMP:20260420T114713Z
DESCRIPTION:
DTSTART;TZID=America/Chicago:20261201T190000
DTEND;TZID=America/Chicago:20261201T210000
LOCATION:311 Nemaha St\, Firth\, NE 68358 US
SUMMARY:Village Board Meeting
END:VEVENT
END:VCALENDAR
